BEGIN:VCALENDAR
VERSION:2.0
PRODID:-//Water Filters – Trade Shows &amp; OEM/ODM Manufacturers - ECPv4.6.6//NONSGML v1.0//EN
CALSCALE:GREGORIAN
METHOD:PUBLISH
X-WR-CALNAME:Water Filters – Trade Shows &amp; OEM/ODM Manufacturers
X-ORIGINAL-URL:https://water-filter-manufacturer.com
X-WR-CALDESC:Events for Water Filters – Trade Shows &amp; OEM/ODM Manufacturers
BEGIN:VEVENT
DTSTART;VALUE=DATE:20180927
DTEND;VALUE=DATE:20180930
DTSTAMP:20260421T102238
CREATED:20180604T040146Z
LAST-MODIFIED:20180604T040147Z
UID:482-1538006400-1538265599@water-filter-manufacturer.com
SUMMARY:Xinjiang International Air Purification\, Water Purifictaion Equipment & Ventilation System Exhibition 2018
DESCRIPTION:Prime Minister Li Keqiang emphasized the need to increase environmental governance\, healed the haze effectively and promoted new breakthroughs in green development. During the “Thirteenth Five-Year Plan” period\, the three major campaigns of the atmosphere\, water\, and soil also reached a critical period. In order to further accelerate air pollution prevention\, water pollution control\, and environmental protection capacity building\, Xinjiang’s “2018 International New Breeze\, Clean Water\, and Comfortable Home Expo” will be supported at the Xinjiang Urumqi International Convention and Exhibition Center on September 27-29\, 2018. During the exhibition\, activities such as the matchmaking of government and business projects will be held during the exhibition. The exhibition will focus on the latest related products such as purification products\, water purification products\, fresh air and indoor ventilation systems. Through exhibitions\, investment negotiations\, technical seminars\, and information dissemination\, the company will set up a platform for supply and demand exchanges and implement “going out” and “introduction”. “Development strategies will increase the effect of industrial aggregation and promote the upgrading of industrial clusters. \n
URL:https://water-filter-manufacturer.com/exhibition/xinjiang-international-air-purification-water-purifictaion-equipment-ventilation-system-exhibition-2018/
LOCATION:No.3\,Hongguangshan Road\,Shuimogou District\,Urumqi\,Xinjiang\,China\, Xinjiang\, China
CATEGORIES:Asia,Water Exhibitions
ATTACH;FMTTYPE=image/jpeg:https://water-filter-manufacturer.com/wp-content/uploads/2018/06/Xinjiang-International-Air-Purification-Water-Purifictaion-Equipment-Ventilation-System-Exhibition-2018-04.jpg
ORGANIZER;CN="Clean%20and%20fresh%20air%20Committee%20of%20Chian%20Building%20Metal%20Association":MAILTO:2283021542@qq.com
END:VEVENT
END:VCALENDAR