BEGIN:VCALENDAR
VERSION:2.0
PRODID:-//Water Filters – Trade Shows &amp; OEM/ODM Manufacturers - ECPv4.6.6//NONSGML v1.0//EN
CALSCALE:GREGORIAN
METHOD:PUBLISH
X-WR-CALNAME:Water Filters – Trade Shows &amp; OEM/ODM Manufacturers
X-ORIGINAL-URL:https://water-filter-manufacturer.com
X-WR-CALDESC:Events for Water Filters – Trade Shows &amp; OEM/ODM Manufacturers
BEGIN:VEVENT
DTSTART;VALUE=DATE:20190605
DTEND;VALUE=DATE:20190609
DTSTAMP:20260422T003518
CREATED:20180628T035715Z
LAST-MODIFIED:20181102T011548Z
UID:540-1559692800-1560038399@water-filter-manufacturer.com
SUMMARY:THAIWATER 2019 - Bangkok\, Thailand
DESCRIPTION:Regulations related to water and environmental concerns now require businesses\, residential and commercial buildings\, malls and local communities to invest in technology and equipment designed to address problems covering sewage\, rainwater harvesting and particle separation. Removal technology\, residual treatment\, sludge thickening and others areas are also of key concern. \nThe 5th edition of Thai Water Expo 2019 is a unique biennial event with timing that couldn’t be better. Major investments in water management programs are now critical and Thai Water is one of the best exhibitions there is. The show has grown to become the leading wate exhibition in the region and business opportunities are exceptional. THAI WATER EXPO 2019 is the perfect place to introduce your product to over 12\,000 quality trade visitors and buyers from 35 countries – especially from Thailand and ASEAN. \n
URL:https://water-filter-manufacturer.com/exhibition/thaiwater-2019/
LOCATION:88 Bangna-Trad Road (km.1)\, Bangna Tai\, Bangna\, Bangkok 10260\, Thailand\, Bangkok\, 10260\, Thailand
CATEGORIES:Asia,Water Exhibitions
ATTACH;FMTTYPE=image/jpeg:https://water-filter-manufacturer.com/wp-content/uploads/2018/06/THAIWATER-2019-04.jpg
ORGANIZER;CN="UBM%20Thailand":MAILTO:Jidakarn.j@ubm.com
END:VEVENT
END:VCALENDAR