BEGIN:VCALENDAR
VERSION:2.0
PRODID:-//Water Filters – Trade Shows &amp; OEM/ODM Manufacturers - ECPv4.6.6//NONSGML v1.0//EN
CALSCALE:GREGORIAN
METHOD:PUBLISH
X-WR-CALNAME:Water Filters – Trade Shows &amp; OEM/ODM Manufacturers
X-ORIGINAL-URL:https://water-filter-manufacturer.com
X-WR-CALDESC:Events for Water Filters – Trade Shows &amp; OEM/ODM Manufacturers
BEGIN:VEVENT
DTSTART;VALUE=DATE:20240811
DTEND;VALUE=DATE:20240816
DTSTAMP:20260424T081702
CREATED:20231127T022559Z
LAST-MODIFIED:20231127T022559Z
UID:2297-1723334400-1723766399@water-filter-manufacturer.com
SUMMARY:IWA World Water Congress & Exhibition 2024
DESCRIPTION:The IWA World Water Congress & Exhibition is the global event for water professionals covering the full water cycle. Join thousands of leading water professionals and companies convened by the International Water Association in August 2024 in Toronto\, Canada. Thought-leaders\, decision makers\, leading researchers and business representatives from within and outside the water sector will focus on water solutions to shape our water future. \n
URL:https://water-filter-manufacturer.com/exhibition/iwa-world-water-congress-exhibition-2024/
LOCATION:Toronto\, Canada
CATEGORIES:North America,Water Exhibitions
ATTACH;FMTTYPE=image/png:https://water-filter-manufacturer.com/wp-content/uploads/2023/11/iwa-2024.png
END:VEVENT
END:VCALENDAR