BEGIN:VCALENDAR
VERSION:2.0
PRODID:-//Water Filters – Trade Shows &amp; OEM/ODM Manufacturers - ECPv4.6.6//NONSGML v1.0//EN
CALSCALE:GREGORIAN
METHOD:PUBLISH
X-WR-CALNAME:Water Filters – Trade Shows &amp; OEM/ODM Manufacturers
X-ORIGINAL-URL:https://water-filter-manufacturer.com
X-WR-CALDESC:Events for Water Filters – Trade Shows &amp; OEM/ODM Manufacturers
BEGIN:VEVENT
DTSTART;VALUE=DATE:20190924
DTEND;VALUE=DATE:20190927
DTSTAMP:20260420T161225
CREATED:20181219T082903Z
LAST-MODIFIED:20181219T082904Z
UID:931-1569283200-1569542399@water-filter-manufacturer.com
SUMMARY:Conference and Exhibition for Emissions Monitoring in India- New Delhi\, India
DESCRIPTION:CEM India 2019 – Conference and Exhibition on Emissions Monitoring\nCentral Pollution Control Board’s Emission Monitoring Guidelines set to improve India’s Environment.\nFollowing on from the successes of the first CEM India event held in 2017 and the tremendous feedback from Indian visitors from industry\, environmental regulators and CEM Exhibitors we are pleased to announce the second CEM India event will take place in Delhi in September 2019 . \nThe guidelines for a continuous emission monitoring system (CEMS) and continuous effluent quality monitoring systems (CEQMS) state how suitable monitors will be selected\, installed\, operated and meet compliance requirement. CEMS intends to improve environment compliance enforcement system in India. Similar systems have been successful in Europe and the USA and are being replicated by India and China. The aim of the CEM India conference and exhibition is to help process operators achieve these goals and guidelines offering technical and practicable solutions. \nIndia is one of the world’s fastest growing economies\, The Central Pollution Control Board (CPCB) of India has taken an important step to adopt Continuous Emissions Monitoring Systems (CEMS) in India. The CPCB has initially directed plants in 17 categories of highly polluting industries to install CEMS for real time monitoring and compliance. \nThe main industries that have been targeted to install CEM Systems include Aluminium\, Cement\, Copper\, Distilleries\, Dying\, Chlor Alkali\, Fertilizers\, Iron& Steel\, Oil Refineries\, Petrochemical plants\, Pesticides\, Pharmaceuticals\, Power Plants\, pulp and paper mills\, sugar\, Tanneries \,Zinc and the Copper industry. The Parameters for continuous monitoring include\, Particulate matter\, Fluoride\, Ammonia\, Sulphur Dioxide\, NOx \, Chlorine\, HCL and Carbon Monoxide. \nThe CEM India conference follows on from the highly successful series of CEM events which have been held in Europe since 1997. CEM India will provide delegates and visitors in depth information on Indian regulation and policy\, monitoring guide lines\, calibration and quality control. There will be case study presentations from Industry as well as International speakers\, Regulators and the Centre for Science and Environment on best practice \, installation\, procedures and data capture. \nRunning alongside the conference will be an exhibition of Domestic and International CEM and CEQMS equipment manufacturers and suppliers who will be able to demonstrate and give technical advice on the latest products and services. Delegates and visitors to CEM India will be regulators\, process operators and environmental managers who need to monitor and test Air and Water quality. \n
URL:https://water-filter-manufacturer.com/exhibition/conference-exhibition-emissions-monitoring-india-new-delhi-india/
LOCATION:1 CBD Maharaj Surajmal Road Near Yamuna Sports Complex\, Vishwas Nagar Extension\, Delhi\, India\, Delhi\, 110032\, India
CATEGORIES:Asia,Water Exhibitions
ATTACH;FMTTYPE=image/jpeg:https://water-filter-manufacturer.com/wp-content/uploads/2018/12/Conference-and-Exhibition-for-Emissions-Monitoring-in-India.jpg
ORGANIZER;CN="ILM%20Exhibitions":MAILTO:info@ilmexhibitions.com
END:VEVENT
END:VCALENDAR