BEGIN:VCALENDAR
VERSION:2.0
PRODID:-//Water Filters – Trade Shows &amp; OEM/ODM Manufacturers - ECPv4.6.6//NONSGML v1.0//EN
CALSCALE:GREGORIAN
METHOD:PUBLISH
X-WR-CALNAME:Water Filters – Trade Shows &amp; OEM/ODM Manufacturers
X-ORIGINAL-URL:https://water-filter-manufacturer.com
X-WR-CALDESC:Events for Water Filters – Trade Shows &amp; OEM/ODM Manufacturers
BEGIN:VEVENT
DTSTART;VALUE=DATE:20200902
DTEND;VALUE=DATE:20200905
DTSTAMP:20260421T080154
CREATED:20200107T070858Z
LAST-MODIFIED:20200107T070858Z
UID:1248-1599004800-1599263999@water-filter-manufacturer.com
SUMMARY:CAMWATER 2020
DESCRIPTION:\nABOUT THE EXHIBITION\nCAMWATER 2020\, the Kingdom’s No.1 International Water & Wastewater Production & Treatment Exhibition is the destination of choice for water industry professionals to get updated on the latest technology and innovations. The Show’s 8th edition will be held at the Diamond Island Exhibition & Convention Centre from 2-4 September 2020. CAMWATER 2019 will provide a platform for suppliers of water purification\, filtration\, treatment and management to generate new business\, build up their branding and develop new partnerships. For more information\, contact Ms. Somaly at somaly@ambtarsus.com or Ms. Seiha at seiha@ambtarsus.com (Cambodia) and Ms Zarwah at zarwah@ambtarsus.com (Malaysia)\n\n\n\nTHE ORGANISER \n\nAMB Tarsus Events Group is the region’s leading exhibition and conference organiser with shows in Laos\, Cambodia\, Myanmar\, Malaysia\, Sri Lanka\, Philippines\, Bangladesh and Vietnam. Established in 1996\, the group’s portfolio covers various sectors including infrastructure\, F&B\, automotive aftermarket\, livestock\, agriculture\, and more. The company prides itself in working closely with local industry organisations and in delivering real results and return on investments for exhibiting and participating companies.\n\n
URL:https://water-filter-manufacturer.com/exhibition/camwater-2020/
CATEGORIES:Asia,Water Exhibitions
ATTACH;FMTTYPE=image/jpeg:https://water-filter-manufacturer.com/wp-content/uploads/2020/01/CAMWATER-2020.jpg
END:VEVENT
END:VCALENDAR