BEGIN:VCALENDAR
VERSION:2.0
PRODID:-//Water Filters – Trade Shows &amp; OEM/ODM Manufacturers - ECPv4.6.6//NONSGML v1.0//EN
CALSCALE:GREGORIAN
METHOD:PUBLISH
X-WR-CALNAME:Water Filters – Trade Shows &amp; OEM/ODM Manufacturers
X-ORIGINAL-URL:https://water-filter-manufacturer.com
X-WR-CALDESC:Events for Water Filters – Trade Shows &amp; OEM/ODM Manufacturers
BEGIN:VEVENT
DTSTART;VALUE=DATE:20190603
DTEND;VALUE=DATE:20190606
DTSTAMP:20260422T002710
CREATED:20180829T061936Z
LAST-MODIFIED:20181102T011453Z
UID:670-1559520000-1559779199@water-filter-manufacturer.com
SUMMARY:BUILDEX CHINA 2019 - Shanghai\, China
DESCRIPTION:In recent years\, Building water supply and drainage industry is developing faster because of the fast development of new urbanization. A large demand of building materials and equipments has come out\, which is more focused on energy conservation and environmental protection. Meanwhile\, secondary water supply rebuilding is also an essential infrastructure construction project\, there is also large demands for building materials and equipments in this field. \nBUILDEX CHINA is fully supported by top domestic authorities\, including “Branch of Water Supply and Drainage for Building\, China Association for Engineering Construction Standardization(CECS)”\,“Committee of Water Supply and Drainage for Building\, Water Industry Association CCES”\, “Shanghai Building Water Supply and Drainage Committee of Architectural Society”\, “Shanghai Society of Civil Engineering”. BUILDEX CHINA is determined to create a professional exhibition platform for Building water supply and drainage industry\, which will deliver unlimited business opportunities for exhibitors and visitors\, and will bring new brand new products and top advanced technology. \n
URL:https://water-filter-manufacturer.com/exhibition/buildex-china-2019/
LOCATION:South entrance\, No.168 East Yinggang Rd. Qingpu District\, Shanghai P.R. China\, Shanghai\, China
CATEGORIES:Asia,Water Exhibitions
ATTACH;FMTTYPE=image/jpeg:https://water-filter-manufacturer.com/wp-content/uploads/2018/08/BUILDEX-CHINA-2019.jpg
ORGANIZER;CN="CHC%20Expo":MAILTO:sales@buildexchina.com.cn
END:VEVENT
END:VCALENDAR