BEGIN:VCALENDAR
VERSION:2.0
PRODID:-//Water Filters – Trade Shows &amp; OEM/ODM Manufacturers - ECPv4.6.6//NONSGML v1.0//EN
CALSCALE:GREGORIAN
METHOD:PUBLISH
X-WR-CALNAME:Water Filters – Trade Shows &amp; OEM/ODM Manufacturers
X-ORIGINAL-URL:https://water-filter-manufacturer.com
X-WR-CALDESC:Events for Water Filters – Trade Shows &amp; OEM/ODM Manufacturers
BEGIN:VEVENT
DTSTART;VALUE=DATE:20240808
DTEND;VALUE=DATE:20240811
DTSTAMP:20260421T105156
CREATED:20240123T020828Z
LAST-MODIFIED:20240123T020944Z
UID:2477-1723075200-1723334399@water-filter-manufacturer.com
SUMMARY:Asia Sustainable Environment Exhibition 2024
DESCRIPTION:SDGs Asia Forum in 2023 will gather over 10 local and international organizations from industries\, government agencies\, academics\, research instituted\, and private sectors in hosting forums and workshops. The event aims to demonstrate businesses’ dedications towards innovative products and future developments in net zero carbon emission actions\, sustainable business innovations\, training of talents\, and energies through different forms. It will drive the relevant resources and expertise to focus on this area\, to further rise the synergy in sustainability\, exchange the latest information in ESG and sustainability. \n
URL:https://water-filter-manufacturer.com/exhibition/asia-sustainable-environment-exhibition-2024/
LOCATION:No. 5\, Section 5\, Xinyi Road\, Xinyi District\, Taipei City 110\, Taipei\, 110\, Taiwan
CATEGORIES:Asia,Water Exhibitions
ATTACH;FMTTYPE=image/png:https://water-filter-manufacturer.com/wp-content/uploads/2024/01/2024-01-23_100751.png
END:VEVENT
END:VCALENDAR