BEGIN:VCALENDAR
VERSION:2.0
PRODID:-//Water Filters – Trade Shows &amp; OEM/ODM Manufacturers - ECPv4.6.6//NONSGML v1.0//EN
CALSCALE:GREGORIAN
METHOD:PUBLISH
X-WR-CALNAME:Water Filters – Trade Shows &amp; OEM/ODM Manufacturers
X-ORIGINAL-URL:https://water-filter-manufacturer.com
X-WR-CALDESC:Events for Water Filters – Trade Shows &amp; OEM/ODM Manufacturers
BEGIN:VEVENT
DTSTART;VALUE=DATE:20191002
DTEND;VALUE=DATE:20191006
DTSTAMP:20260422T002005
CREATED:20180906T030325Z
LAST-MODIFIED:20181102T011929Z
UID:739-1569974400-1570319999@water-filter-manufacturer.com
SUMMARY:10th ISK-SODEX - İstanbul\, Turkey
DESCRIPTION:Next edition of ISK-SODEX Istanbul will held at Tüyap Fair Convention and Congress Center\, on October 2-5\, 2019. \nOne of the most important events of the sector\, ISK-SODEX Istanbul is an important event for sector professionals who would like to keep up with the latest developments and trends. \nISK-SODEX Istanbul not only offers to gather different point of views from both its national and international exhibitos but also present lots of advantages to its exhibitors and visitors with the supporting programmes and co-operations with the most important sectoral associations. The importance of the exhibition is approved which offers meeting\, having and developing business networks. \n
URL:https://water-filter-manufacturer.com/exhibition/10th-isk-sodex/
LOCATION:Dızdarıye Mahallesi\, Sukunet Sk.\, 34500 Büyükçekmece/İstanbul\, İstanbul\, 34500\, Turkey
CATEGORIES:Asia,Water Exhibitions
ATTACH;FMTTYPE=image/jpeg:https://water-filter-manufacturer.com/wp-content/uploads/2018/09/10th-ISK-SODEX-04.jpg
ORGANIZER;CN="Hannover-Messe%20Sodeks%20Fuarcilik%20AS":MAILTO:info@sodex.com.tr
END:VEVENT
END:VCALENDAR